BEGIN:VCALENDAR
VERSION:2.0
PRODID:-//Ananda Marga Italia - ECPv6.15.13//NONSGML v1.0//EN
CALSCALE:GREGORIAN
METHOD:PUBLISH
X-WR-CALNAME:Ananda Marga Italia
X-ORIGINAL-URL:https://anandamargaitalia.it
X-WR-CALDESC:Eventi per Ananda Marga Italia
REFRESH-INTERVAL;VALUE=DURATION:PT1H
X-Robots-Tag:noindex
X-PUBLISHED-TTL:PT1H
BEGIN:VTIMEZONE
TZID:Europe/Rome
BEGIN:DAYLIGHT
TZOFFSETFROM:+0100
TZOFFSETTO:+0200
TZNAME:CEST
DTSTART:20200329T010000
END:DAYLIGHT
BEGIN:STANDARD
TZOFFSETFROM:+0200
TZOFFSETTO:+0100
TZNAME:CET
DTSTART:20201025T010000
END:STANDARD
BEGIN:DAYLIGHT
TZOFFSETFROM:+0100
TZOFFSETTO:+0200
TZNAME:CEST
DTSTART:20210328T010000
END:DAYLIGHT
BEGIN:STANDARD
TZOFFSETFROM:+0200
TZOFFSETTO:+0100
TZNAME:CET
DTSTART:20211031T010000
END:STANDARD
BEGIN:DAYLIGHT
TZOFFSETFROM:+0100
TZOFFSETTO:+0200
TZNAME:CEST
DTSTART:20220327T010000
END:DAYLIGHT
BEGIN:STANDARD
TZOFFSETFROM:+0200
TZOFFSETTO:+0100
TZNAME:CET
DTSTART:20221030T010000
END:STANDARD
BEGIN:DAYLIGHT
TZOFFSETFROM:+0100
TZOFFSETTO:+0200
TZNAME:CEST
DTSTART:20230326T010000
END:DAYLIGHT
BEGIN:STANDARD
TZOFFSETFROM:+0200
TZOFFSETTO:+0100
TZNAME:CET
DTSTART:20231029T010000
END:STANDARD
BEGIN:DAYLIGHT
TZOFFSETFROM:+0100
TZOFFSETTO:+0200
TZNAME:CEST
DTSTART:20240331T010000
END:DAYLIGHT
BEGIN:STANDARD
TZOFFSETFROM:+0200
TZOFFSETTO:+0100
TZNAME:CET
DTSTART:20241027T010000
END:STANDARD
BEGIN:DAYLIGHT
TZOFFSETFROM:+0100
TZOFFSETTO:+0200
TZNAME:CEST
DTSTART:20250330T010000
END:DAYLIGHT
BEGIN:STANDARD
TZOFFSETFROM:+0200
TZOFFSETTO:+0100
TZNAME:CET
DTSTART:20251026T010000
END:STANDARD
END:VTIMEZONE
BEGIN:VEVENT
DTSTART;TZID=Europe/Rome:20240508T203000
DTEND;TZID=Europe/Rome:20240626T203000
DTSTAMP:20260420T015328
CREATED:20240610T082624Z
LAST-MODIFIED:20240610T082624Z
UID:3712-1715200200-1719433800@anandamargaitalia.it
SUMMARY:Corso di bengalese
DESCRIPTION:[vc_row][vc_column icons_position=”left”][vc_column_text css_animation=”none”]A partire da mercoledì 8 maggio alle ore 20:30\, seguiranno 8 incontri tenuti da Dada Ragamayananda che insegnerà le basi della lingua Bengali.\nNon mancate!!\nPer iscriversi agli incontri e ricevere il link di accesso alla piattaforma del corso\, vi chiediamo di registrarvi usando il modulo qui in basso👇🏼 \nVi aspettiamo numerosi! \nBaba Nam Kevalam 🌻🪻 \n📧info@anandamargaitalia.it[/vc_column_text][vc_empty_space]Modulo registrazione[/vc_column][/vc_row]
URL:https://anandamargaitalia.it/evento/corso-bengalese/
LOCATION:Online – piattaforma Zoom
CATEGORIES:Eventi Ananda Vipasha,Eventi Andria,Eventi Bologna,Eventi Nazionale,Eventi Parma,Eventi Roma
ATTACH;FMTTYPE=image/jpeg:https://anandamargaitalia.it/wp-content/uploads/2024/06/Corso-bengalese.jpeg
ORGANIZER;CN="Ananda Marga Italia":MAILTO:info@anandamargaitalia.it
END:VEVENT
BEGIN:VEVENT
DTSTART;TZID=Europe/Rome:20240329T170000
DTEND;TZID=Europe/Rome:20240401T150000
DTSTAMP:20260420T015328
CREATED:20240126T063044Z
LAST-MODIFIED:20240126T211123Z
UID:3632-1711731600-1711983600@anandamargaitalia.it
SUMMARY:Spring Conference 2024
DESCRIPTION:From Friday 29th of March to Monday 1st of April 2024\, a great weekend dedicated to Yoga and meditation\, in the wonderful paradise of Trasimeno Lake. \nIncluded in the program: Asana classes\, Collective meditations\, meetings with yogic nuns and monks\, great food and much more. You can find here all the info about Spring Conference 2024:\n \nCONFERENCE INFO\n 
URL:https://anandamargaitalia.it/evento/spring-conference-2024/
LOCATION:VR
CATEGORIES:Eventi Ananda Vipasha,Eventi Andria,Eventi Bologna,Eventi Nazionale,Eventi Parma,Eventi Roma
ATTACH;FMTTYPE=image/jpeg:https://anandamargaitalia.it/wp-content/uploads/2024/01/Spring-retreat.jpeg
ORGANIZER;CN="Ananda Marga Italia":MAILTO:info@anandamargaitalia.it
END:VEVENT
BEGIN:VEVENT
DTSTART;TZID=Europe/Rome:20240329T170000
DTEND;TZID=Europe/Rome:20240401T150000
DTSTAMP:20260420T015328
CREATED:20240123T215204Z
LAST-MODIFIED:20240125T134327Z
UID:3591-1711731600-1711983600@anandamargaitalia.it
SUMMARY:Ritiro di primavera 2024
DESCRIPTION:Da venerdì 29 marzo a lunedì 1 aprile 2024\, un fine settimana dedicato allo Yoga e alla meditazione\, immersi nel meraviglioso paradiso del lago Trasimeno. \nIl programma prevede lezioni di asana\, meditazioni collettive\, incontri con monaci e monache yoga\, ottimo cibo e tanto altro. Per tutte le info sul ritiro di Primavera 2024 clicca qui:\n \nTUTTE LE INFO\n 
URL:https://anandamargaitalia.it/evento/primavera-2024/
LOCATION:VR
CATEGORIES:Eventi Ananda Vipasha,Eventi Andria,Eventi Bologna,Eventi Nazionale,Eventi Parma,Eventi Roma
ATTACH;FMTTYPE=image/jpeg:https://anandamargaitalia.it/wp-content/uploads/2024/01/Ritiro-primavera.jpeg
ORGANIZER;CN="Ananda Marga Italia":MAILTO:info@anandamargaitalia.it
END:VEVENT
BEGIN:VEVENT
DTSTART;TZID=Europe/Rome:20231230T160000
DTEND;TZID=Europe/Rome:20240101T150000
DTSTAMP:20260420T015328
CREATED:20231207T145207Z
LAST-MODIFIED:20231221T185749Z
UID:3515-1703952000-1704121200@anandamargaitalia.it
SUMMARY:RITIRO DI CAPODANNO 2024: la sorgente della gioia
DESCRIPTION:[vc_row][vc_column icons_position=”left”][vc_column_text css_animation=”none”] \n\nLA SORGENTE DELLA GIOIA\nRitiro di capodanno\n2024\n\n30 dicembre 2023\n1 gennaio 2024\n\nCENTRO YOGA E\nMEDITAZIONE\nÁNANDA VIPÁSHÁ\nCase Sparse Brolazzo 3\, Sant’Ambrogio di Valpolicella\nAbbraccia il nuovo anno nella condivisione\, in un ambiente spirituale gioioso. Festeggeremo l’arrivo del 2024 cantando e suonando il Kiirtan per tutta la notte attorno al tradizionale falò di mezzanotte.\nCon un programma ricco di pratiche spirituali\, preziosi workshop e danze tradizionali.\nLa speciale presenza di Didi Ananda Samprajina\, Didi Ananda Ranjana\, Dada Vimaleshananda ci accompagnerà per tutto il ritiro.\nAssapora l’effetto di 9 ore di canto del mantra\, immergiti nella condivisione spirituale ed accogli il primo giorno dell’anno nella pace. \n\nAvrai l’opportunità di interagire con i nostri monaci e monache esperti di yoga e meditazione da oltre 20 anni\, condividendo con loro le tue domande e approfondendo la tua conoscenza della pratica spirituale.\nSaranno presenti per guidarti e offrirti il loro sostegno durante tutto il ritiro. \n\nNAGAR KIIRTAN\nLa mattina del 31 dicembre faremo il tradizionale Nagar Kiirtan a Verona. Passeggeremo per la città suonando e cantando il mantra universale “Baba Nam Kevalam” (Tutto è Infinito Amore).\nUnisciti a noi! Condividi la tua gioia\, diffondiamo insieme amore e sorrisi nelle piazze di Verona. Concluderemo la passeggiata del Nagar Kiirtan facendo meditazione in piazza! \n\n9 ORE DI KIIRTAN\n\n\nSaluteremo il 2023 cantando il mantra universale “Baba Nam Kevalam” (Tutto è Amore Infinito) per tutta la notte.\nAccoglieremo il 2024 suonando e cantando Il kiirtan (canto del mantra)\, che ti aiuterà a dissipare i tuoi blocchi interiori e a indirizzare la tua mente verso pensieri più sottili\, pulendo la mente da tutte le energiè più scure e pesanti\, donando una dimensione di luce. Dopo 9 ore di kiirtan ti sentirai rinato\, prova questa esperienza\nindescrivibile! \n\nFALÓ DI MEZZANOTTE\nAllo scoccare della mezzanotte accenderemo il tradizionale Falò di Capodanno immerso nel suggestivo paesaggio dei Colli della Valpolicella\, nel silenzio dei boschi\, con una vista mozzafiato sul Lago di Garda. Potrai inoltre immergerti nel suggestivo canto del mantra per tutta la notte e assaporare la prima meditazione del 2024 circondato dall’incantevole silenzio della natura. \n\nCIBO\n\n\nDurante il ritiro verrà fornito una dieta senziente\, cibo sano e nutriente in linea con i principi di Ánanda Márga. Un\ncibo che nutre il corpo a tutti i livelli: fisico\, psichico e mentale. La dieta senziente è una dieta latteo- vegetariana ma saremo attenti e felici di offrire anche variazioni vegane\, senza glutine e accogliere le esigenze dietetiche specifiche di ciascuno. Troverai uno spazio dedicato alle tue esigenze alimentari nel modulo di iscrizione. \n\nDOVE\n\n\nIl programma si tiene nella nostra sede nazionale di yoga e meditazione Ánanda Vipáshá\, a Sant’Ambrogio di Valpolicella. Un centro ritiri molto speciale che da 30 anni assorbe le vibrazioni di yoga\, meditazione e canto di mantra. La splendida vista sul lago di Garda e sulle montagne circostanti ti incanterà e l’ambiente tranquillo e silenzioso favorirà il naturale fluire della tua mente verso l’interno. Alloggerai in comode camere dormitorio. \n\nARRIVO\nL’arrivo è previsto per sabato 30 dicembre\, nel pomeriggio. Alle ore 17:00 comincerà il programma. Nel caso avessi\ndifficoltà ad arrivare giovedì\, puoi avvisare gli organizzatori. \n\nCONTRIBUTO\nLa donazione consigliata per questo ritiro è di € 100\,00.\nTuttavia\, se ritieni che questa cifra sia al di là delle tue possibilità finanziarie\, ti invitiamo a contattarci. La cosa più importante è che se desideri partecipare\, la tua condizione economica non sia di ostacolo a questa esperienza. \n\nCOSA PORTARE\nPer il soggiorno\, porta con te ciabatte/pantofole per l’interno della casa\, mentre i piedi nudi saranno consentiti solo nella sala di meditazione. Ricordati di portare asciugamani personali e un sacco a pelo o lenzuola. Per le attività all’aperto\, assicurati di avere scarpe comode per le passeggiate e abbigliamento indicato alle temperature invernali. Non dimenticare di avere con te una borraccia\, un taccuino e una penna. \n\nISCRIVITI ANCHE TU\nIscriviti anche tu! Registrarsi è facilissimo: usa il link sottostante e compila il modulo online. Con pochi click prenota il tuo posto al ritiro. Registrati entro lunedì 25 dicembre 2023! \nIscriviti\nSe dovessi avere altre domande scrivi a:\ninfo @anandamargaitalia.it\nGarima 347 3439577 (chiama/whatsApp)[/vc_column_text][/vc_column][/vc_row]
URL:https://anandamargaitalia.it/evento/capodanno-2024/
LOCATION:Centro Yoga Ananda Vipasha\, Centro Yoga - Meditazione Ananda Vipasha\, Case Sparse Brolazzo 3\, Sant'Ambrogio di Valpolicella\, VR\, 37015\, Italia
CATEGORIES:Eventi Ananda Vipasha,Eventi Andria,Eventi Bologna,Eventi Nazionale,Eventi Parma,Eventi Roma
ATTACH;FMTTYPE=image/jpeg:https://anandamargaitalia.it/wp-content/uploads/2023/12/capodanno-2023-24.jpg
END:VEVENT
BEGIN:VEVENT
DTSTART;TZID=Europe/Rome:20231228T160000
DTEND;TZID=Europe/Rome:20231230T150000
DTSTAMP:20260420T015328
CREATED:20231207T144551Z
LAST-MODIFIED:20231221T192017Z
UID:3510-1703779200-1703948400@anandamargaitalia.it
SUMMARY:RITIRO INTENSIVO: a lume di candela
DESCRIPTION:[vc_row][vc_column icons_position=”left”][vc_column_text css_animation=”none”] \n\nRITIRO INTENSIVO\na lume di candela\n28 – 30 dicembre 2023\nCENTRO YOGA E MEDITAZIONE ÁNANDA VIPÁSHÁ\nCase Sparse Brolazzo 3\, Sant’Ambrogio di Valpolicella\n\nPrepara il tuo corpo\, la tua mente ed il tuo spirito ad accogliere il nuovo anno immergendoti in un ritiro tutto a lume di candela\, in cui il silenzio ti accompagnerà per la maggior parte della giornata.\nSeguirai il lento ritmo della natura\, immerso tra i colli e i boschi della Valpolicella. Ti alzerai all’alba per assaporare la magia della prima meditazione del mattino e per tutto il giorno sarai accompagnato da tre Acarya che condurranno seminari e lezioni spirituali. \n\nAvrai l’opportunità di interagire con i nostri monaci e monache esperti di yoga e meditazione da oltre 20 anni\, condividendo con loro le tue domande e approfondendo la tua conoscenza della pratica spirituale.\nSaranno presenti per guidarti e offrirti il loro sostegno durante tutto il ritiro. \n\nROUTINE GIORNALIERA E PROGRAMMA\nLa routine giornaliera e il programma sono pensati per avere da una parte il massimo beneficio del sadhana\, dall’altra di approfondire al meglio la tua comprensione di Ánanda Márga\, e in ultimo di gioire insieme della compagnia spirituale.\nDurante il ritiro ci saranno sempre 4 meditazioni al giorno\, compreso painchajanya (la meditazione delle ore 5 del mattino)\, approfondimento delle asana\, workshop di condivsione e approfondimento sul percorso spirituale e sulla dimensione collettiva\, lezioni degli acharya\, attività fisica per rinvigorire il corpo\, e momenti di ispirazione profonda. \n\nPOSIZIONI YOGA\n\n\nOgni giorno\, avrai l’opportunità di partecipare alle lezioni di asana. Questo momento servirà sia a perfezionare la propria pratica individuale che ad imparare e comprendere i loro benefici. Queste lezioni ti offriranno una meravigliosa esperienza per lavorare in particolare sui 3 sistemi più importanti per la pratica spirituale andando a distendere il sistema nervoso\, bilanciando il sistema ormonale e attivando il sistema linfatico. Ogni sessione si concluderà con automassaggio\, rilassamento profondo e condivisione finale\, offrendoti un momento di rigenerazione ma anche di serenità e centratura. \n\nKIIRTAN e MEDITAZIONE\n\n\nDurante il ritiro faremo meditazione a partire dall’ alba\, avremo modo di approfondire le lezioni personali di\nmeditazione e insieme faremo kiirtan e meditazione 4 volte durate il giorno. Il kiirtan (canto del mantra) ti aiuterà a dissipare i tuoi blocchi interiori\, e a indirizzare la tua mente verso pensieri più sottili\, pulendo la mente da tutte le energiè più scure e pesanti\, donando una dimensione di luce. Alla sera l’Avartha Kiirtan con la sua dolcezza e profondità completerà la giornata. \n\nCIBO\n\n\nDurante il ritiro verrà fornito una dieta senziente\, cibo sano e nutriente in linea con i principi di Ánanda Márga. Un\ncibo che nutre il corpo a tutti i livelli: fisico\, psichico e mentale. La dieta senziente è una dieta latteo- vegetariana ma saremo attenti e felici di offrire anche variazioni vegane\, senza glutine e accogliere le esigenze dietetiche specifiche di ciascuno. Troverai uno spazio dedicato alle tue esigenze alimentari nel modulo di iscrizione. \n\nDOVE\n\n\nIl programma si tiene nella nostra sede nazionale di yoga e meditazione Ánanda Vipáshá\, a Sant’Ambrogio di Valpolicella. Un centro ritiri molto speciale che da 30 anni assorbe le vibrazioni di yoga\, meditazione e canto di mantra. La splendida vista sul lago di Garda e sulle montagne circostanti ti incanterà e l’ambiente tranquillo e silenzioso favorirà il naturale fluire della tua mente verso l’interno. Alloggerai in comode camere dormitorio. \n\nARRIVO\nL’arrivo è previsto per giovedì 28 dicembre\, nel pomeriggio. Alle ore 17:00 comincerà il programma. Nel caso avessi\ndifficoltà ad arrivare giovedì\, puoi avvisare gli organizzatori. \n\nCONTRIBUTO\nLa donazione consigliata per questo ritiro è di € 100\,00.\nTuttavia\, se ritieni che questa cifra sia al di là delle tue possibilità finanziarie\, ti invitiamo a contattarci. La cosa più importante è che se desideri partecipare\, la tua condizione economica non sia di ostacolo a questa esperienza. \n\nCOSA PORTARE\nPer il soggiorno\, porta con te ciabatte/pantofole per l’interno della casa\, mentre i piedi nudi saranno consentiti solo nella sala di meditazione. Ricordati di portare asciugamani personali e un sacco a pelo o lenzuola. Per le attività all’aperto\, assicurati di avere scarpe comode per le passeggiate e abbigliamento indicato alle temperature invernali. Non dimenticare di avere con te una borraccia\, un taccuino e una penna. \n\nISCRIVITI ANCHE TU\nIscriviti anche tu! Registrarsi è facilissimo: usa il link sottostante e compila il modulo online. Con pochi click prenota il tuo posto al ritiro. Registrati entro lunedì 25 dicembre 2023! \nIscriviti\nSe dovessi avere altre domande scrivi a:\ninfo @anandamargaitalia.it\nGarima 347 3439577 (chiama/whatsApp)[/vc_column_text][/vc_column][/vc_row]
URL:https://anandamargaitalia.it/evento/lume-di-candela/
LOCATION:Centro Yoga Ananda Vipasha\, Centro Yoga - Meditazione Ananda Vipasha\, Case Sparse Brolazzo 3\, Sant'Ambrogio di Valpolicella\, VR\, 37015\, Italia
CATEGORIES:Eventi Ananda Vipasha,Eventi Andria,Eventi Bologna,Eventi Nazionale,Eventi Parma,Eventi Roma
ATTACH;FMTTYPE=image/jpeg:https://anandamargaitalia.it/wp-content/uploads/2023/12/intensivo-dic-2023-1.jpg
END:VEVENT
BEGIN:VEVENT
DTSTART;TZID=Europe/Rome:20230312T100000
DTEND;TZID=Europe/Rome:20230312T190000
DTSTAMP:20260420T015328
CREATED:20230305T094722Z
LAST-MODIFIED:20230305T094722Z
UID:3200-1678615200-1678647600@anandamargaitalia.it
SUMMARY:Costellazioni familiari
DESCRIPTION:Per partecipare è obbligatoria la prenotazione. Ingresso ad offerta libera\, spontanea e consapevole
URL:https://anandamargaitalia.it/evento/costellazioni-familiari/
LOCATION:Ananda Marga Roma\, Via Casale de Merode 6a\, Roma\, 00147\, Italia
CATEGORIES:Eventi Roma
ATTACH;FMTTYPE=image/jpeg:https://anandamargaitalia.it/wp-content/uploads/2023/03/Costellazioni-familiari.jpeg
END:VEVENT
BEGIN:VEVENT
DTSTART;TZID=Europe/Rome:20221207T170000
DTEND;TZID=Europe/Rome:20221211T150000
DTSTAMP:20260420T015328
CREATED:20221117T200138Z
LAST-MODIFIED:20221117T211531Z
UID:3059-1670432400-1670770800@anandamargaitalia.it
SUMMARY:Ritiro Yoga "Nell'occhio del ciclone"
DESCRIPTION:Da mercoledì 7 a domenica 11 dicembre 2022\, 4 giorni dedicati allo Yoga e alla meditazione. \nNel meraviglioso centro Yoga a soli tre chilometri dal mare\, in C.da Cozzo Coria snc\, Ispica (RG). \nPer il programma consulta il volantino qui in basso: \n \n  \nPer il costo\, per prenotare un posto e per raggiungere il luogo del ritiro: \n \n  \nNell’Occhio del Ciclone\nCome vivere sereni le incognite del domani \nSono in tanti gli studiosi d’astrologia che prevedono grossi cambiamenti nell’anno che verrà\, influenze planetarie e mutamenti energetici che sfiderebbero il concetto e senso dell’ordinaria normalità. Pur vivendo compresse sotto il peso dell’egoismo elevato a valore umano\, la maggioranza delle persone teme le novità\, e dunque s’accontenta dell’usato sicuro nonostante sia deprimente per lo spirito.  \nTale ‘perturbazione’ in via di formazione si potrebbe definire un ciclone\, e sarebbe sciocco non prepararsi per tempo al suo possibile arrivo\, rafforzando la propria consapevolezza del vero\, di ciò che realmente serva per mantenere sempre e comunque la barra dritta verso la meta esistenziale.  \nQuesto processo è essenzialmente intuitivo\, una ricerca delle vere risorse interiori che custodiamo nel profondo del cuore\, oltre i confini logici della mente\, che tutto sa ma ben poco comprende del senso mistico degli avvenimenti\, il valore delle sfide e il primato dell’Amore che tutto anima. \nÈ necessario predisporsi a tale salto quantico di consapevolezza per poter operare come se fossimo proprio nell’occhio del ciclone\, cioè in grado di servire le sue vittime senza però essere travolti dalla sua forza distrattiva e distruttiva. Il prossimo ritiro yoga a Ispica si concentrerà proprio su tale crescita di consapevolezza e preparazione\, sia interiore e sia intellettiva\, attraverso laboratori e condivisioni guidate sul tema.  \nImpareremo a tagliare i rami secchi delle inutili aspettative\, della nostra dipendenza verso la superficialità nei sentimenti e come scegliere con cura tutto ciò che costituisce la filiera dei pensieri\, delle parole e dell’agire. \nBisognerà solo superare la naturale resistenza della propria mente\, che preferisce di gran lunga ignorare le difficolta e le sfide proprie dello stile di vita senziente e secondo coscienza\, per potersi concentrare sulle più certe gratificazioni immediate. La realtà però non cambia se la ignoriamo\, anzi\, tende a diventare sempre peggio!   \nQuesto è un lavoro che si fa bene assieme\, in un consesso di persone con simili aspirazioni interiori\, in cui sia possibile catalizzare le nostre timide intuizioni in un movimento di crescita individuale e collettivo\, capace di esorcizzare la nostra paura dell’incognito spirituale\, e la dipendenza verso il quel vivere inconsapevoli che non ci rappresenta più. 
URL:https://anandamargaitalia.it/evento/occhio-del-ciclone/
LOCATION:Centro Ananda Marga Ispica\, Centro Ananda Marga Ispica\, Contrada Cozzo Coria\, Ispica (Ragusa)\, RG\, 97014\, Italia
CATEGORIES:Eventi Ananda Vipasha,Eventi Andria,Eventi Bologna,Eventi Nazionale,Eventi Parma,Eventi Roma
ATTACH;FMTTYPE=image/jpeg:https://anandamargaitalia.it/wp-content/uploads/2022/11/Ritiro-yoga1.jpg
END:VEVENT
BEGIN:VEVENT
DTSTART;TZID=Europe/Rome:20221118T170000
DTEND;TZID=Europe/Rome:20221120T150000
DTSTAMP:20260420T015328
CREATED:20221020T180653Z
LAST-MODIFIED:20221020T183025Z
UID:2959-1668790800-1668956400@anandamargaitalia.it
SUMMARY:Trekking\, Yoga e meditazione
DESCRIPTION:Da venerdì 18 a domenica 20 novembre 2022\, un fine settimana dedicato allo Yoga e alla meditazione\, immersi nel meraviglioso paradiso dei monti della Valpolicella sul lago di Garda. \nIl programma prevede lezioni di asana\, meditazioni collettive\, incontri con monaci e monache yoga\, ottimo cibo e una fantastica passeggiata tra i monti della Valpolicella. Per tutte le info sul ritiro di Trekking\, Yoga e meditazione clicca qui: \n  \nVedi i dettagli
URL:https://anandamargaitalia.it/evento/trekking-e-yoga/
LOCATION:Centro Yoga Ananda Vipasha\, Centro Yoga - Meditazione Ananda Vipasha\, Case Sparse Brolazzo 3\, Sant'Ambrogio di Valpolicella\, VR\, 37015\, Italia
CATEGORIES:Eventi Ananda Vipasha,Eventi Andria,Eventi Bologna,Eventi Nazionale,Eventi Parma,Eventi Roma
ATTACH;FMTTYPE=image/jpeg:https://anandamargaitalia.it/wp-content/uploads/2022/10/WhatsApp-Image-2022-10-04-at-12.38.23.jpeg
ORGANIZER;CN="Ananda Marga Italia":MAILTO:info@anandamargaitalia.it
END:VEVENT
BEGIN:VEVENT
DTSTART;TZID=Europe/Rome:20210709T170000
DTEND;TZID=Europe/Rome:20210711T170000
DTSTAMP:20260420T015328
CREATED:20210628T212953Z
LAST-MODIFIED:20210628T220840Z
UID:2858-1625850000-1626022800@anandamargaitalia.it
SUMMARY:Yoga d'Estate
DESCRIPTION:Hai sempre voluto esplorare uno stile di vita più in armonia con te stesso/a e con il mondo che ti circonda? Avvicinarti alla pratica dello yoga e imparare la meditazione? Ecco l’occasione che aspettavi: 2 giorni di immersioni completa in una dimensione di ascolto\, ricerca\, condivisione\, che arricchirà profondamente la tua vita – YOGA D’ESTATE. \nProgramma \nVENERDI\n17:00 – arrivo\n18:30 – cerchio del benvenuto\n20:00 – cena\n21:00 – presentazione del programma \nSABATO\n6:30 – lezione di asana (posizioni yoga)\n7:30 – canto del mantra e meditazione\n8:30 – colazione\n9:30 – Linee guida per uno Stile di vita yogico/Etica dello Yoga – Laboratorio\n11:00 – passeggiata in natura\n12:30 – canto del mantra e meditazione\n13:00 – Pranzo\n15:30 – Il cibo che nutre anima e corpo – Laboratorio\n17:00 – tempo libero\n17:30 – lezione di asana (posizioni yoga)\n18:30 – canto del mantra e meditazione\n20:00 – cena\n21:00 – musica e poesia – spazio creativo\n21:30 – fine programma di sabato \nDOMENICA\n6:30 – lezione di asana (posizioni yoga)\n7:30 – canto del mantra e meditazione\n8:30 – colazione\n9:30 – yoga arte natura – spazio creativo\n10:30 – passeggiata in natura\n12:30 – canto del mantra e meditazione\n13:00 – cerchio di chiusura e condivisione finale\n13:30 – pranzo\n15:00 – partenza
URL:https://anandamargaitalia.it/evento/yoga-destate/
LOCATION:Centro Yoga Ananda Vipasha\, Centro Yoga - Meditazione Ananda Vipasha\, Case Sparse Brolazzo 3\, Sant'Ambrogio di Valpolicella\, VR\, 37015\, Italia
CATEGORIES:Eventi Ananda Vipasha,Eventi Andria,Eventi Bologna,Eventi Nazionale,Eventi Parma,Eventi Roma
ATTACH;FMTTYPE=image/jpeg:https://anandamargaitalia.it/wp-content/uploads/2021/06/PHOTO-2021-06-28-23-18.jpg
ORGANIZER;CN="Ananda Marga Italia":MAILTO:info@anandamargaitalia.it
END:VEVENT
END:VCALENDAR