BEGIN:VCALENDAR
VERSION:2.0
PRODID:-//Ananda Marga Italia - ECPv6.15.13//NONSGML v1.0//EN
CALSCALE:GREGORIAN
METHOD:PUBLISH
X-ORIGINAL-URL:https://anandamargaitalia.it
X-WR-CALDESC:Eventi per Ananda Marga Italia
REFRESH-INTERVAL;VALUE=DURATION:PT1H
X-Robots-Tag:noindex
X-PUBLISHED-TTL:PT1H
BEGIN:VTIMEZONE
TZID:Europe/Rome
BEGIN:DAYLIGHT
TZOFFSETFROM:+0100
TZOFFSETTO:+0200
TZNAME:CEST
DTSTART:20240331T010000
END:DAYLIGHT
BEGIN:STANDARD
TZOFFSETFROM:+0200
TZOFFSETTO:+0100
TZNAME:CET
DTSTART:20241027T010000
END:STANDARD
BEGIN:DAYLIGHT
TZOFFSETFROM:+0100
TZOFFSETTO:+0200
TZNAME:CEST
DTSTART:20250330T010000
END:DAYLIGHT
BEGIN:STANDARD
TZOFFSETFROM:+0200
TZOFFSETTO:+0100
TZNAME:CET
DTSTART:20251026T010000
END:STANDARD
BEGIN:DAYLIGHT
TZOFFSETFROM:+0100
TZOFFSETTO:+0200
TZNAME:CEST
DTSTART:20260329T010000
END:DAYLIGHT
BEGIN:STANDARD
TZOFFSETFROM:+0200
TZOFFSETTO:+0100
TZNAME:CET
DTSTART:20261025T010000
END:STANDARD
END:VTIMEZONE
BEGIN:VEVENT
DTSTART;TZID=Europe/Rome:20250911T160000
DTEND;TZID=Europe/Rome:20250914T150000
DTSTAMP:20260423T100748
CREATED:20250805T201905Z
LAST-MODIFIED:20250805T202048Z
UID:3989-1757606400-1757862000@anandamargaitalia.it
SUMMARY:RAWA CONFERENCE 2025: WRITERS\, MUSICIANS AND VISUAL ARTISTS
DESCRIPTION:[vc_row full_width=”stretch_row” hide_bg_image_on_tablet=”” hide_bg_image_on_mobile=””][vc_column icons_position=”left”][vc_empty_space alter_height=”medium” hide_on_desktop=”” hide_on_notebook=”” hide_on_tablet=”” hide_on_mobile=””][vc_single_image image=”3990″ img_size=”large” alignment=”center” css_animation=”bounceInLeft” css=””][vc_empty_space alter_height=”medium” hide_on_desktop=”” hide_on_notebook=”” hide_on_tablet=”” hide_on_mobile=””][/vc_column][/vc_row][vc_row full_width=”stretch_row” hide_bg_image_on_tablet=”” hide_bg_image_on_mobile=””][vc_column icons_position=”left”][vc_empty_space alter_height=”medium” hide_on_desktop=”” hide_on_notebook=”” hide_on_tablet=”” hide_on_mobile=””][vc_column_text css=””] \n“ART IS OUR NATURE”\nBERLIN SECTOR RAWA CONFERENCE\n11th September – 14th September 2025\nAnanda Vipasha – Sant’Ambrogio di Valpolicella\n[/vc_column_text][vc_empty_space alter_height=”medium” hide_on_desktop=”” hide_on_notebook=”” hide_on_tablet=”” hide_on_mobile=””][/vc_column][/vc_row][vc_row css_animation=”none”][vc_column css_animation=”fadeInLeft” icons_position=”left”][vc_column_text][/vc_column_text][vc_column_text] \nDADA RAGAMAYANANDA \n[/vc_column_text][/vc_column][/vc_row][vc_row css_animation=”none”][vc_column css_animation=”fadeInLeft” icons_position=”left”][vc_empty_space alter_height=”medium” hide_on_desktop=”” hide_on_notebook=”” hide_on_tablet=”” hide_on_mobile=””][vc_column_text][/vc_column_text][vc_column_text] \nDADA TIIRTHADEVANANDA \n[/vc_column_text][/vc_column][/vc_row][vc_row css_animation=”none” disable_element=”yes”][vc_column css_animation=”fadeInLeft” icons_position=”left”][vc_empty_space alter_height=”medium” hide_on_desktop=”” hide_on_notebook=”” hide_on_tablet=”” hide_on_mobile=””][vc_column_text][/vc_column_text][vc_column_text] \nDIDI ANANDA RAINJANA \n[/vc_column_text][/vc_column][/vc_row][vc_row css_animation=”fadeInLeft”][vc_column icons_position=”left”][vc_empty_space alter_height=”medium” hide_on_desktop=”” hide_on_notebook=”” hide_on_tablet=”” hide_on_mobile=””][vc_column_text] \n“When artists\, absorbed in the essence of love\, try to convey it to the people through their language\, rhetoric and subtle suggestions\, the sweetness of their artistic genius reaches the apex of expression.”\n(‘The Practise of Art and Literature’ – Shrii Prabhat Rainjan Sarkar-)\n[/vc_column_text][vc_empty_space alter_height=”large” hide_on_desktop=”” hide_on_notebook=”” hide_on_tablet=”” hide_on_mobile=””][/vc_column][/vc_row][vc_row][vc_column icons_position=”left”][vc_row_inner][vc_column_inner icons_position=”left”][vc_column_text] \nWe are pleased to invite you to this year’s annual sectorial RAWA conference\, held at the stunning Ananda Vipáshá yoga and meditation center since 1987 in the hills of Verona\, Italy\, looking down over Lake Garda.\n[/vc_column_text][vc_empty_space alter_height=”large” hide_on_desktop=”” hide_on_notebook=”” hide_on_tablet=”” hide_on_mobile=””][vc_media_grid element_width=”6″ grid_id=”vc_gid:1754424868662-9946a9ef-ee07-9″ include=”1511\,3657″][vc_empty_space alter_height=”medium” hide_on_desktop=”” hide_on_notebook=”” hide_on_tablet=”” hide_on_mobile=””][/vc_column_inner][/vc_row_inner][/vc_column][/vc_row][vc_row css_animation=”none”][vc_column css_animation=”flipInY” icons_position=”left”]Register now[/vc_column][/vc_row][vc_row][vc_column css_animation=”fadeInLeft” icons_position=”left”][vc_empty_space alter_height=”medium” hide_on_desktop=”” hide_on_notebook=”” hide_on_tablet=”” hide_on_mobile=””][vc_column_text] \nThe annual RAWA conference is a retreat-style gathering with its sole focus as art for the welfare of our society. This event is a rare opportunity to develop artistically in an inspiring\, spiritual environment. Through workshops\, activities and seminars\, our aim through this program is to immerse ourselves in the subtle beauty of the arts and explore our own potential to use art for social and spiritual progress.\n[/vc_column_text][vc_empty_space alter_height=”medium” hide_on_desktop=”” hide_on_notebook=”” hide_on_tablet=”” hide_on_mobile=””][vc_single_image image=”3736″ img_size=”400×400″ alignment=”center”][/vc_column][/vc_row][vc_row][vc_column css_animation=”fadeInLeft” icons_position=”left”][vc_empty_space alter_height=”medium” hide_on_desktop=”” hide_on_notebook=”” hide_on_tablet=”” hide_on_mobile=””][vc_column_text] \nArt and literature has the capacity to awaken social consciousness and lead a person towards spiritual self-realisation. However\, in the present age\, art and literature has become a slave of both commercial and political interests. It is our aim to reverse this tide of materialism and restore art and literature to its true role as an instrument for social and spiritual awakening.\n[/vc_column_text][vc_empty_space alter_height=”medium” hide_on_desktop=”” hide_on_notebook=”” hide_on_tablet=”” hide_on_mobile=””][vc_media_grid grid_id=”vc_gid:1754424868669-b4cf2a14-fc94-7″ include=”3745\,3744\,3743″][/vc_column][/vc_row][vc_row][vc_column css_animation=”fadeInLeft” icons_position=”left”][vc_empty_space alter_height=”medium” hide_on_desktop=”” hide_on_notebook=”” hide_on_tablet=”” hide_on_mobile=””]What is Rawa?[vc_empty_space alter_height=”medium” hide_on_desktop=”” hide_on_notebook=”” hide_on_tablet=”” hide_on_mobile=””][vc_column_text] \nRAWA is a branch of the “Renaissance Universal” (RU) department within the organizational structure of Ananda Marga that deals with artists and writers who wish to use their talents to promote “art for\nservice and blessedness”.\nFounded by Prabhat Rainjan Sarkar in India in 1958\, RAWA is a means for spreading the ideals of spiritual humanism or “neo-humanism”. Sarkar envisioned a new artistic and literary renaissance where artists and writers can unite and inspire society to move forward in a progressive and spiritual\ndirection.\n[/vc_column_text][/vc_column][/vc_row][vc_row][vc_column css_animation=”fadeInLeft” icons_position=”left”][vc_empty_space alter_height=”medium” hide_on_desktop=”” hide_on_notebook=”” hide_on_tablet=”” hide_on_mobile=””]Rawa Activities[vc_empty_space alter_height=”medium” hide_on_desktop=”” hide_on_notebook=”” hide_on_tablet=”” hide_on_mobile=””][vc_column_text] \nFormation of cooperatives for production; promotion and dissemination of art and literature; sponsoring art exhibitions and literary works; publication and production of recordings\, books and journals Organizing concerts\, musical events; theatrical and drama productions\, and other events which provide a means for deserving artists and writers to reach the public.\nHolding meetings and conferences where artists and writers can discuss their common problems and interests.\nEncouraging artists and writers to participate in social service programs\n[/vc_column_text][/vc_column][/vc_row][vc_row][vc_column css_animation=”fadeInLeft” icons_position=”left”][vc_empty_space alter_height=”medium” hide_on_desktop=”” hide_on_notebook=”” hide_on_tablet=”” hide_on_mobile=””]Rawa's aims[vc_empty_space alter_height=”medium” hide_on_desktop=”” hide_on_notebook=”” hide_on_tablet=”” hide_on_mobile=””][vc_column_text] \nDevelop the finer faculties of the human mind through artistic works and music\, song\, dance\, drama\, poetry and other literary works.\nEncourage the subtler branches of art and literature.\nBring change in social values through art and literature.\nProtect the artist and writer from commercial exploitation.\n[/vc_column_text][/vc_column][/vc_row][vc_row][vc_column css_animation=”fadeInLeft” icons_position=”left”][vc_empty_space alter_height=”medium” hide_on_desktop=”” hide_on_notebook=”” hide_on_tablet=”” hide_on_mobile=””]Why ``Berlin Sector``?[vc_empty_space alter_height=”medium” hide_on_desktop=”” hide_on_notebook=”” hide_on_tablet=”” hide_on_mobile=””][vc_column_text] \nAnanda Marga Pracaraka Samgha’s global organisational body is structured according to sectors\, with organisational roles based on the locality of its activities.\n“Berlin Sector” encompasses most of Europe and some of North Africa\, as the sectorial office is in Berlin. Within Berlin Sector\, there are then regional units in Algiers\, Amsterdam\, Bucharest\, Gibraltar\, London\, Moscow\, Oslo\, Paris\, Prague\, Rome\, Stockholm and Zurich.\n[/vc_column_text][/vc_column][/vc_row][vc_row][vc_column css_animation=”fadeInLeft” icons_position=”left”][vc_empty_space alter_height=”medium” hide_on_desktop=”” hide_on_notebook=”” hide_on_tablet=”” hide_on_mobile=””]Where are we?[vc_empty_space alter_height=”medium” hide_on_desktop=”” hide_on_notebook=”” hide_on_tablet=”” hide_on_mobile=””][vc_column_text] \nThe event will take place at “Ananda Vipasha”\, Ananda Marga yoga and meditation center located nearby the Garda Lake\nAddress:\nCase Sparse Brolazzo\, 3\n37015 Sant’Ambrogio di Valpolicella (Verona)\n[/vc_column_text][/vc_column][/vc_row][vc_row][vc_column css_animation=”fadeInLeft” icons_position=”left”][vc_empty_space alter_height=”medium” hide_on_desktop=”” hide_on_notebook=”” hide_on_tablet=”” hide_on_mobile=””]What can I expect from this event?[vc_empty_space alter_height=”medium” hide_on_desktop=”” hide_on_notebook=”” hide_on_tablet=”” hide_on_mobile=””][vc_column_text] \nMore specifically\, through the activities held during the program\, we aim to hone in on tools such as art therapy\, music\, poetry\, clowning\, marketing yourself as an artist and more\, all to be accompanied by collective mantra singing\, meditation\, spiritual company and engaging discussions. Above all\, we hope that it may serve as a reminder of the indispensable role of the artist in this modern world\n[/vc_column_text][/vc_column][/vc_row][vc_row][vc_column css_animation=”fadeInLeft” icons_position=”left”][vc_empty_space alter_height=”medium” hide_on_desktop=”” hide_on_notebook=”” hide_on_tablet=”” hide_on_mobile=””][vc_single_image image=”3753″ img_size=”full” alignment=”center”][vc_empty_space alter_height=”medium” hide_on_desktop=”” hide_on_notebook=”” hide_on_tablet=”” hide_on_mobile=””][/vc_column][/vc_row][vc_row][vc_column css_animation=”fadeInLeft” icons_position=”left”][vc_empty_space alter_height=”medium” hide_on_desktop=”” hide_on_notebook=”” hide_on_tablet=”” hide_on_mobile=””]What to bring[vc_empty_space alter_height=”medium” hide_on_desktop=”” hide_on_notebook=”” hide_on_tablet=”” hide_on_mobile=””][vc_column_text] \nFor your stay: slippers for inside the house – bare feet only in the meditation room. Personal towel and sleeping bag or blanket with sheets.\nFor outdoors: sneakers or comfortable shoes\, sun hat.\nFor practice: blanket and yoga mat. Water bottle\, notebook and pen.\n[/vc_column_text][/vc_column][/vc_row][vc_row][vc_column css_animation=”fadeInLeft” icons_position=”left”][vc_empty_space alter_height=”medium” hide_on_desktop=”” hide_on_notebook=”” hide_on_tablet=”” hide_on_mobile=””]Contribution[vc_empty_space alter_height=”medium” hide_on_desktop=”” hide_on_notebook=”” hide_on_tablet=”” hide_on_mobile=””][vc_column_text css=””] \nWe thought we would make it easier for people coming from further away. If you have financial difficulties or believe that the requested contribution is beyond your means\, do not hesitate to contact the organizers.\nRecommended donation Northern and Central Italian regions:\n(Emilia Romagna\, Liguria\, Piedmont\, Valle D’Aosta\, Lombardy\, Trentino Alto Adige\, Veneto\, Friuli\, Tuscany\, Marche\,\nUmbria\, Lazio\, Abruzzo)\nAdults: euro 120.00\nChildren 12-18 years: euro 60.00\nChildren 7-11 years: euro 40.00\nStudents: euro 90.00\nchildren 0-6 free\nRecommended donation Regions of Southern Italy and the whole world:\n(Molise\, Campania\, Puglia\, Calabria\, Basilicata\, Sicily\, Sardinia)\nAdults: euro 90.00\nChildren 12-18 years: euro 45.00\nChildren 7-11 years: euro 30.00\nStudents: euro 60.00\nChildren 0-6 free\nDeadline for bookings: Monday 1st September 2025.\n[/vc_column_text][/vc_column][/vc_row][vc_row][vc_column css_animation=”fadeInLeft” icons_position=”left”][vc_empty_space alter_height=”medium” hide_on_desktop=”” hide_on_notebook=”” hide_on_tablet=”” hide_on_mobile=””]Signing in[vc_empty_space alter_height=”medium” hide_on_desktop=”” hide_on_notebook=”” hide_on_tablet=”” hide_on_mobile=””][vc_column_text css=””] \nJoin us\, sign up now!\nRegistering is very simple: use the link below and fill out the online form. With just a few clicks\, book your place at the retreat.\nDeadline for bookings: MONDAY 1st SEPTEMBER 2025\nWe are waiting for you!\nIf you have other questions write to: info@anandamargaitalia.it or call/WhatsApp: Satya +39 335 6097809\nREGISTER NOW! CLICK TO THE LINK BELOW👇🏼\n[/vc_column_text][vc_empty_space alter_height=”medium” hide_on_desktop=”” hide_on_notebook=”” hide_on_tablet=”” hide_on_mobile=””]Register now[vc_empty_space alter_height=”medium” hide_on_desktop=”” hide_on_notebook=”” hide_on_tablet=”” hide_on_mobile=””][/vc_column][/vc_row]
URL:https://anandamargaitalia.it/evento/rawa-conference-2025-writers-musicians-and-visual-artists/
LOCATION:Centro Yoga Ananda Vipasha\, Centro Yoga - Meditazione Ananda Vipasha\, Case Sparse Brolazzo 3\, Sant'Ambrogio di Valpolicella\, VR\, 37015\, Italia
CATEGORIES:Eventi Ananda Vipasha,Eventi Andria,Eventi Bologna,Eventi Nazionale,Eventi Parma,Eventi Roma
ATTACH;FMTTYPE=image/jpeg:https://anandamargaitalia.it/wp-content/uploads/2025/08/Conferenza-RAWA_ENG.jpeg
ORGANIZER;CN="Ananda Marga Italia":MAILTO:info@anandamargaitalia.it
END:VEVENT
END:VCALENDAR