BEGIN:VCALENDAR
VERSION:2.0
PRODID:-//Ananda Marga Italia - ECPv6.15.13//NONSGML v1.0//EN
CALSCALE:GREGORIAN
METHOD:PUBLISH
X-ORIGINAL-URL:https://anandamargaitalia.it
X-WR-CALDESC:Eventi per Ananda Marga Italia
REFRESH-INTERVAL;VALUE=DURATION:PT1H
X-Robots-Tag:noindex
X-PUBLISHED-TTL:PT1H
BEGIN:VTIMEZONE
TZID:Europe/Rome
BEGIN:DAYLIGHT
TZOFFSETFROM:+0100
TZOFFSETTO:+0200
TZNAME:CEST
DTSTART:20220327T010000
END:DAYLIGHT
BEGIN:STANDARD
TZOFFSETFROM:+0200
TZOFFSETTO:+0100
TZNAME:CET
DTSTART:20221030T010000
END:STANDARD
BEGIN:DAYLIGHT
TZOFFSETFROM:+0100
TZOFFSETTO:+0200
TZNAME:CEST
DTSTART:20230326T010000
END:DAYLIGHT
BEGIN:STANDARD
TZOFFSETFROM:+0200
TZOFFSETTO:+0100
TZNAME:CET
DTSTART:20231029T010000
END:STANDARD
BEGIN:DAYLIGHT
TZOFFSETFROM:+0100
TZOFFSETTO:+0200
TZNAME:CEST
DTSTART:20240331T010000
END:DAYLIGHT
BEGIN:STANDARD
TZOFFSETFROM:+0200
TZOFFSETTO:+0100
TZNAME:CET
DTSTART:20241027T010000
END:STANDARD
END:VTIMEZONE
BEGIN:VEVENT
DTSTART;TZID=Europe/Rome:20230317T160000
DTEND;TZID=Europe/Rome:20230319T150000
DTSTAMP:20260422T033905
CREATED:20230114T092319Z
LAST-MODIFIED:20230306T200750Z
UID:3102-1679068800-1679238000@anandamargaitalia.it
SUMMARY:RITIRO di MEDITAZIONE  PROFONDA NEL BOSCO (per donne)
DESCRIPTION:MEDITAZIONE PROFONDA NEL BOSCO\nRITIRO PER SORELLE 17- 19 MARZO 2023\nRISERVA NATURALE DI MONTE RUFENO\n\n\n\n\nCare sorelle Namaskar!\nBenvenute al RITIRO di MEDITAZIONE PROFONDA NEL BOSCO\n17-18-19 MARZO 2023\nSegnate le date sui vostri calendari per questo evento speciale! \n\n\n\n\nQuesto ritiro è stato pensato per aiutarti a praticare una sadhana profonda. Vogliamo che tu ti goda la meditazione e che possa trovare nuovi e più profondi livelli dentro di te. Alcuni pasti saranno in silenzio\, le lezioni si concentreranno sulla sadhana\, con tanto meraviglioso kiirtan e satsaunga. Sarà un ritiro pieno di pace e gioia nella tranquilla e magica atmosfera di una riserva naturale\, in compagnia delle sorelle con cui condividi questo viaggio spirituale. In questo fine settimana avrai la possibilità di esercitarti a diventare l’essere umano ideale che Baba vuole che tutti noi diventiamo. Un ritiro speciale da ricordare a lungo. \n  \n\nCONTRIBUTO \nLa donazione suggerita per il programma è di 95 euro che è il contributo base per vitto e alloggio. Ogni donazione superiore a questa cifra è gradita.\nTermine ultimo per la prenotazione lunedì 3 marzo 2023. \n\nMEDITAZIONE \nQuesto ritiro è rivolto a coloro che hanno già una pratica regolare di meditazione ed è stato progettato per aiutarti ad approfondire la meditazione e accelerare i tuoi progressi. Vieni con la mente pronta a praticare sessioni di meditazione più lunghe di quelle a cui sei abituata. Vedrai la tua concentrazione aumentare. Se possibile\, cerca di fare la revisione delle lezioni prima del ritiro. \n\nLABORATORIO ASANA \nOgni giorno ci saranno dei “laboratori” di asana\, per analizzare i vari elementi delle posizioni e aiutarci a comprenderle in più dettaglio. Alcune sessioni si concentreranno anche su argomenti specifici come i disturbi della menopausa o della fase premestruale. Si tratta di sessioni/laboratori di asana collettive guidate\, non di una comune lezione di asana. \n\n\n\n\n\n\n\n\n\nCIBO \nDelizioso e nutriente per tutti i livelli del nostro essere: corpo\, mente e anche spirito. Tutti i pasti saranno senza glutine e vegani. Ci prenderemo cura di tutte le tue esigenze dietetiche specifiche. Nel modulo di iscrizione troverai uno spazio speciale per comunicarci le tue preferenze. \n\nBAMBINI \nQuesto programma è destinato agli adulti ed è pensato per incoraggiare la meditazione profonda in modo intensivo; pertanto\, non è prevista la partecipazione dei bambini. Durante lo yoga collettivo\, la meditazione e il programma desideriamo ridurre al minimo le distrazioni esterne per mantenere la concentrazione all’interno. \n\nACARYA \nQuesto fine settimana sarà guidato da Didi Ananda Samprajina con la partecipazione di Didi Ananda Rainjana. Queste due Didi sono monache missionarie presso la Missione di Servizio Spirituale e Sociale Ananda Marga. Entrambe sono entrate in contatto con lo yoga e la meditazione quando erano ancora molto giovani e hanno dedicato la loro vita all’insegnamento della meditazione e al servizio dei bisognosi. \nQuesto ritiro è una grande opportunità per tutte noi sorelle di trascorrere un po’ di tempo in loro compagnia e di attingere alla loro conoscenza ed esperienza dello yoga e della meditazione. Un’occasione da non perdere! \n\nDOVE \n“Casale Tigna- Casa della Fauna”\, Riserva naturale di Monte Rufeno\, ingresso N° 6\, 01021\, Acquapendente\, Viterbo.\nTi diamo il benvenuto in un antico casale vicino a Orvieto\, situato nella particolarissima cornice di una riserva naturale che favorirà l’intensità delle pratiche e la bellezza della vibrazione spirituale che attireremo\ncon kiirtan e sadhana. Il meraviglioso bosco e le colline circostanti ti incanteranno e l’ambiente tranquillo e silenzioso favorirà il naturale fluire della tua mente verso l’interno. Soggiorneremo in confortevoli camere condivise con bagno adiacente. \n\n\n\n\n\n\n\n\n\nCOSA PORTARE \nPer il soggiorno: ciabatte/pantofole per l’interno della casa – piedi nudi solo nella sala di meditazione. Asciugamani personali e sacco a pelo o coperta. Per l’esterno: scarpe da ginnastica o scarpe comode per una passeggiata nel bosco. Tappetino coperta e cuscino per la meditazione. Bottiglia d’acqua. \nBenvenute a un ritiro davvero speciale dove rafforzeremo la solidarietà fra noi donne sul cammino del Tantra dell’ Ànanda Margà! \n\nISCRIVITI ANCHE TU \nIscriviti anche tu!\nRegistrarsi è facilissimo: usa il link sottostante e compila il modulo online. Con pochi click prenota il tuo posto al ritiro. Registrati entro il 3 marzo 2023!\nTi aspettiamo! \n\n\n\n\nIscriviti[vc_empty_space alter_height=”medium” hide_on_desktop=”” hide_on_notebook=”” hide_on_tablet=”” hide_on_mobile=””][vc_empty_space alter_height=”medium” hide_on_desktop=”” hide_on_notebook=”” hide_on_tablet=”” hide_on_mobile=””][vc_row][vc_column icons_position=”left”][vc_column_text]Se dovessi avere altre domande scrivi a: info@anandamargaitalia.it\noppure chiama: Premadevii 339 8524665 o Latìkà 331 9229346 \nBABA NAM KEVALAM[/vc_column_text][/vc_column][/vc_row]
URL:https://anandamargaitalia.it/evento/ritiro-di-meditazione-profonda/
LOCATION:Riserva Naturale di Monte Rufeno\, Via Julia De Jacopo\, 2\, Acquapendente VT\, 01021\, Italia
CATEGORIES:Eventi Andria,Eventi Bologna,Eventi Nazionale,Eventi Parma
ATTACH;FMTTYPE=image/jpeg:https://anandamargaitalia.it/wp-content/uploads/2023/01/Meditazione-nel-bosco.jpeg
END:VEVENT
BEGIN:VEVENT
DTSTART;TZID=Europe/Rome:20230317T160000
DTEND;TZID=Europe/Rome:20230319T160000
DTSTAMP:20260422T033905
CREATED:20230124T140322Z
LAST-MODIFIED:20230204T152100Z
UID:3154-1679068800-1679241600@anandamargaitalia.it
SUMMARY:Sisters deep meditation retreat
DESCRIPTION:SISTERS DEEP MEDITATION RETREAT\n17-19 MARCH 2023\nMONTE RUFENO NATURE RESERVE \nVITERBO\, ITALY\n\n\n\n\n\n\n\n\nThis retreat is designed to help you practice deep sadhana. We want you to enjoy meditation and find new and deeper levels within yourself. Some of the meals will be silent\, the classes will focus on sadhana\, with lots of wonderful kiirtan and satsaunga. It will be a retreat full of peace and joy in the tranquil and magical atmosphere of a nature reserve\, in the company of the sisters with whom you share this spiritual journey. On this retreat you will have the opportunity to practice becoming the ideal human being Baba wants us all to be. A special retreat to remember for a long time. \n\nCONTRIBUTION \nSuggested donation: 95 euros which is the basic contribution for the room and board. Anydonation above this amount is appreciated. Deadline for reservations Monday\, March 3. \n\nMEDITATION \nThis retreat is intended for those who already have a regular meditation practice. It is designed to help you deepen and accelerate your progress. Come with your mind ready to practice longer sadhana sessions than you are used to. You will see your concentration increase. If possible\, try to have your lessons reviewed before the retreat. \n\nASANA WORKSHOP \nEach day there will be asana “workshops” to look at the various elements of the asana and help us understand the details of the postures. Some sessions will also focus on specific topics such as menopausal or premenstrual disorders. These are guided collective asana sessions/workshops\, not an ordinary asana classes. \n\n\n\n\n\n\n\n\n\nFOOD \nDelicious and nourishing for all levels of our being: body\, mind and even spirit. All meals will be gluten-free and vegan. We will take care of all your specific dietary needs. You will find a special space in the registration form to let us know your preferences. \n\nCHILDREN \nThis program is intended for adults and is designed to encourage deep meditation in\nan intensive way; therefore\, children are not expected to participate. During collective yoga\, meditation and programme we wish to minimize external distractions to maintain concentration within. \n\nACARYA \nThis weekend will be led by Didi Ananda Samprajina with the participation of Didi Ananda Rainjana. These two Didi’s are missionary nuns with the Ananda Marga Spiritual and Social Service Mission. They both came into contact early with yoga and meditation and have dedicated their lives to teaching meditation and serving those in need.\nThis retreat is a great opportunity for all of us sisters to spend some time in their company and to draw on their knowledge and experience of yoga and meditation. An opportunity not to be missed! \n\nWHERE \nWe welcome you to an old farmhouse near Orvieto\, located in the very special setting of a nature reserve that will encourage the intensity of the practices and the blissful vibration that we will be attracting with kiirtan and sadhana.\nThe beautiful forest and surrounding hills will enchant you\, and the peaceful and quiet environment will encourage the natural flow of your mind inward. We will stay in comfortable shared rooms. \n\n\n\n\n\n\n\n\n\nWHAT TO BRING \nFor your stay: slippers for inside the house – bare feet only in the meditation room. Personal towels and sleeping bag or blanket. For outside: sneakers or comfortable shoes for a walk in the woods. For the practice : blanket\, mat\, and cushion for meditation. Water bottle. \nWelcome to a very special retreat where we will strengthen sisterhood among us women on the tantric path of the Ànanda Margà \n\nSIGN UP \nJoin us\, sing up now!\nRegistering is so easy: use the link below and fill out the online form. With just a few clicks reserve your place at the retreat. Deadline for reservations Monday\, March 3. We look forward to seeing you! \n\n\n\n\nSign Up[vc_empty_space alter_height=”medium” hide_on_desktop=”” hide_on_notebook=”” hide_on_tablet=”” hide_on_mobile=””] \n[vc_empty_space alter_height=”medium” hide_on_desktop=”” hide_on_notebook=”” hide_on_tablet=”” hide_on_mobile=””][vc_row][vc_column icons_position=”left”][vc_column_text]Should you have any other questions please write to: info@anandamargaitalia.it\nor Call: Premadevii 339 8524665 o Latìkà 331 9229346 \nBABA NAM KEVALAM[/vc_column_text][/vc_column][/vc_row]
URL:https://anandamargaitalia.it/evento/sister-deep-meditation-retreat/
LOCATION:Riserva Naturale di Monte Rufeno\, Via Julia De Jacopo\, 2\, Acquapendente VT\, 01021\, Italia
CATEGORIES:Eventi Nazionale
ATTACH;FMTTYPE=image/jpeg:https://anandamargaitalia.it/wp-content/uploads/2023/01/sister-deep-meditation-retreat.jpeg
END:VEVENT
END:VCALENDAR