BEGIN:VCALENDAR
VERSION:2.0
PRODID:-//Ananda Marga Italia - ECPv6.15.13//NONSGML v1.0//EN
CALSCALE:GREGORIAN
METHOD:PUBLISH
X-ORIGINAL-URL:https://anandamargaitalia.it
X-WR-CALDESC:Eventi per Ananda Marga Italia
REFRESH-INTERVAL;VALUE=DURATION:PT1H
X-Robots-Tag:noindex
X-PUBLISHED-TTL:PT1H
BEGIN:VTIMEZONE
TZID:UTC
BEGIN:STANDARD
TZOFFSETFROM:+0000
TZOFFSETTO:+0000
TZNAME:UTC
DTSTART:20190101T000000
END:STANDARD
END:VTIMEZONE
BEGIN:VEVENT
DTSTART;VALUE=DATE:20200410
DTEND;VALUE=DATE:20200414
DTSTAMP:20260424T095544
CREATED:20171114T112929Z
LAST-MODIFIED:20200518T170143Z
UID:285-1586476800-1586822399@anandamargaitalia.it
SUMMARY:Ritiro di Primavera 2020
DESCRIPTION:Ananda Marga Pracaraka Samgha Italia (Ananda Marga Italia) ti invita a partecipare all’annuale Ritiro di Primavera 2020\, dal 10 al 13 Aprile\, ad Ananda Vipasa\, Sant’Ambrogio di Valpolicella\, Verona. \nDopo il grande successo dello scorso anno\, la voglia di replicare il ritiro nel nostro centro “Ananda Vipasa” era tanta. Siamo profondamente felici di accoglierti e di offrirti la nostra più calorosa ospitalità. Il luogo è carico delle vibrazioni create da più  di 30 anni di kiirtan\, meditazione e flusso devozionale. Inoltre\, Ananda Vipasa è situata in una meravigliosa località dove puoi trascorrere del tempo a passeggiare ed ammirare il paesaggio. \nPrenota al più presto per assicurarti un posto. \nPer info e prenotazioni\nScrivi a: info@anandamargaitalia.it oppure contatta Lidia al 331 922 9346 o Elisa al 328 0879703.\nTi aspettiamo! \nPrezzi\nI posti sono limitati\, quindi prenotate adesso il vostro: in stanza\, in tenda o in B&B: \n\nAdulti: € 140\nStudenti/famiglia: € 130\nIn tenda o in B&B: : € 110\nDa Sicilia\, Puglia\, Calabria e Sardegna: € 110 in stanza e € 90 in tenda o in B&B\nBambini: 0-3 anni gratis\, 4-8 anni il 30%\, 9-13 anni il 50% del prezzo pieno\n\nPotete prenotarvi depositando € 50 sul nostro conto bancario:\nUnicreditbanca – filiale di Porta Vescovo – Verona\nIBAN: IT67O0200811704000040446840\nBIC SWIFT: UNCRITM1M04 \nPer favore\, portate con voi la ricevuta dell’avvenuto deposito. \nCome arrivare\n\nIn auto: GPS o google map (vedi link sotto): Centro Yoga e Meditazione Andanda Vipasa.\nIn treno: scentedete a Domegliara – Sant’Ambrogio\, chiamateci e vi verremo a prendere.\nIn aereo: aereoporto Catullo\, poi autobus per Verona Porta Nuova (stazione ferroviaria)\, quindi il treno per Domegliara.\n\nFateci sapere il prima possibile con che mezzo arriverete. \nPrenotazioni entro il 31 marzo. Chi prima arriva meglio alloggia. \n  \n  
URL:https://anandamargaitalia.it/evento/ritiro-di-primavera-2020/
LOCATION:Centro Yoga Ananda Vipasha\, Centro Yoga - Meditazione Ananda Vipasha\, Case Sparse Brolazzo 3\, Sant'Ambrogio di Valpolicella\, VR\, 37015\, Italia
CATEGORIES:Eventi Nazionale
ATTACH;FMTTYPE=image/jpeg:https://anandamargaitalia.it/wp-content/uploads/2017/11/ritiro-primavera-2020-thumb.jpg
ORGANIZER;CN="Lidia":MAILTO:info@anandamargaitalia.it
END:VEVENT
END:VCALENDAR